BEGIN:VCALENDAR
VERSION:2.0
PRODID:-//ふぁみちぇん 面会交流（親子交流） 愛知名古屋 離婚後の親と子供の交流を安心安全に - ECPv6.15.11//NONSGML v1.0//EN
CALSCALE:GREGORIAN
METHOD:PUBLISH
X-WR-CALNAME:ふぁみちぇん 面会交流（親子交流） 愛知名古屋 離婚後の親と子供の交流を安心安全に
X-ORIGINAL-URL:https://famichan.org
X-WR-CALDESC:ふぁみちぇん 面会交流（親子交流） 愛知名古屋 離婚後の親と子供の交流を安心安全に のイベント
REFRESH-INTERVAL;VALUE=DURATION:PT1H
X-Robots-Tag:noindex
X-PUBLISHED-TTL:PT1H
BEGIN:VTIMEZONE
TZID:Asia/Tokyo
BEGIN:STANDARD
TZOFFSETFROM:+0900
TZOFFSETTO:+0900
TZNAME:JST
DTSTART:20250101T000000
END:STANDARD
END:VTIMEZONE
BEGIN:VEVENT
DTSTART;TZID=Asia/Tokyo:20260419T100000
DTEND;TZID=Asia/Tokyo:20260419T110000
DTSTAMP:20260426T124126
CREATED:20260326T064539Z
LAST-MODIFIED:20260326T064539Z
UID:3806-1776592800-1776596400@famichan.org
SUMMARY:予約済
DESCRIPTION:おむすびオンライン支援予約済です
URL:https://famichan.org/event/%e4%ba%88%e7%b4%84%e6%b8%88-5/
CATEGORIES:おむすび
END:VEVENT
BEGIN:VEVENT
DTSTART;TZID=Asia/Tokyo:20260419T103000
DTEND;TZID=Asia/Tokyo:20260419T123000
DTSTAMP:20260426T124126
CREATED:20260419T115400Z
LAST-MODIFIED:20260419T115825Z
UID:3911-1776594600-1776601800@famichan.org
SUMMARY:予約可能2組
DESCRIPTION:はないと予約可能２組。
URL:https://famichan.org/event/%e4%ba%88%e7%b4%84%e5%8f%af%e8%83%bd2%e7%b5%84/
CATEGORIES:はないと
END:VEVENT
BEGIN:VEVENT
DTSTART;TZID=Asia/Tokyo:20260419T120000
DTEND;TZID=Asia/Tokyo:20260419T140000
DTSTAMP:20260426T124126
CREATED:20260326T064648Z
LAST-MODIFIED:20260326T064648Z
UID:3808-1776600000-1776607200@famichan.org
SUMMARY:予約済
DESCRIPTION:おむすび見守り支援予約済です
URL:https://famichan.org/event/%e4%ba%88%e7%b4%84%e6%b8%88-6/
CATEGORIES:おむすび
END:VEVENT
BEGIN:VEVENT
DTSTART;TZID=Asia/Tokyo:20260419T150000
DTEND;TZID=Asia/Tokyo:20260419T170000
DTSTAMP:20260426T124126
CREATED:20260326T064729Z
LAST-MODIFIED:20260326T070455Z
UID:3810-1776610800-1776618000@famichan.org
SUMMARY:予約済
DESCRIPTION:おむすび見守り支援予約済です
URL:https://famichan.org/event/%e4%ba%88%e7%b4%84%e6%b8%88-7/
CATEGORIES:おむすび
END:VEVENT
BEGIN:VEVENT
DTSTART;TZID=Asia/Tokyo:20260425T103000
DTEND;TZID=Asia/Tokyo:20260425T123000
DTSTAMP:20260426T124126
CREATED:20260329T045542Z
LAST-MODIFIED:20260414T110121Z
UID:3838-1777113000-1777120200@famichan.org
SUMMARY:予約可能０組
DESCRIPTION:はないと定員に達しました。
URL:https://famichan.org/event/%e3%81%af%e3%81%aa%e3%81%84%e3%81%a80%e7%b5%84-2/
CATEGORIES:はないと
END:VEVENT
BEGIN:VEVENT
DTSTART;TZID=Asia/Tokyo:20260426T090000
DTEND;TZID=Asia/Tokyo:20260426T110000
DTSTAMP:20260426T124126
CREATED:20260326T064817Z
LAST-MODIFIED:20260326T064817Z
UID:3812-1777194000-1777201200@famichan.org
SUMMARY:予約済
DESCRIPTION:おむすび見守り支援予約済です
URL:https://famichan.org/event/%e4%ba%88%e7%b4%84%e6%b8%88-8/
CATEGORIES:おむすび
END:VEVENT
BEGIN:VEVENT
DTSTART;TZID=Asia/Tokyo:20260426T120000
DTEND;TZID=Asia/Tokyo:20260426T140000
DTSTAMP:20260426T124126
CREATED:20260419T112558Z
LAST-MODIFIED:20260419T112558Z
UID:3879-1777204800-1777212000@famichan.org
SUMMARY:予約済
DESCRIPTION:おむすび見守り支援予約済です
URL:https://famichan.org/event/%e4%ba%88%e7%b4%84%e6%b8%88-15/
CATEGORIES:おむすび
END:VEVENT
BEGIN:VEVENT
DTSTART;TZID=Asia/Tokyo:20260503T150000
DTEND;TZID=Asia/Tokyo:20260503T170000
DTSTAMP:20260426T124126
CREATED:20260326T064916Z
LAST-MODIFIED:20260326T064916Z
UID:3814-1777820400-1777827600@famichan.org
SUMMARY:予約済
DESCRIPTION:おむすび見守り支援予約済です
URL:https://famichan.org/event/%e4%ba%88%e7%b4%84%e6%b8%88-9/
CATEGORIES:おむすび
END:VEVENT
BEGIN:VEVENT
DTSTART;TZID=Asia/Tokyo:20260509T090000
DTEND;TZID=Asia/Tokyo:20260509T110000
DTSTAMP:20260426T124126
CREATED:20260419T112754Z
LAST-MODIFIED:20260419T112754Z
UID:3883-1778317200-1778324400@famichan.org
SUMMARY:予約済
DESCRIPTION:おむすび見守り支援予約済です。
URL:https://famichan.org/event/%e4%ba%88%e7%b4%84%e6%b8%88-17/
CATEGORIES:おむすび
END:VEVENT
BEGIN:VEVENT
DTSTART;TZID=Asia/Tokyo:20260510T090000
DTEND;TZID=Asia/Tokyo:20260510T170000
DTSTAMP:20260426T124126
CREATED:20260326T065203Z
LAST-MODIFIED:20260326T070525Z
UID:3818-1778403600-1778432400@famichan.org
SUMMARY:支援不可
DESCRIPTION:名駅支援日、年次総会のためおむすび支援はできません
URL:https://famichan.org/event/%e6%94%af%e6%8f%b4%e4%b8%8d%e5%8f%af/
CATEGORIES:おむすび
END:VEVENT
BEGIN:VEVENT
DTSTART;TZID=Asia/Tokyo:20260510T103000
DTEND;TZID=Asia/Tokyo:20260510T123000
DTSTAMP:20260426T124126
CREATED:20260329T045915Z
LAST-MODIFIED:20260414T110202Z
UID:3841-1778409000-1778416200@famichan.org
SUMMARY:予約可能１組
DESCRIPTION:はないと１組の申し込みが可能です。
URL:https://famichan.org/event/%e3%81%af%e3%81%aa%e3%81%84%e3%81%a80%e7%b5%84-3/
CATEGORIES:はないと
END:VEVENT
BEGIN:VEVENT
DTSTART;TZID=Asia/Tokyo:20260516T090000
DTEND;TZID=Asia/Tokyo:20260516T110000
DTSTAMP:20260426T124126
CREATED:20260326T065321Z
LAST-MODIFIED:20260326T070539Z
UID:3820-1778922000-1778929200@famichan.org
SUMMARY:予約済
DESCRIPTION:おむすび見守り支援予約済です
URL:https://famichan.org/event/%e4%ba%88%e7%b4%84%e6%b8%88-11/
CATEGORIES:おむすび
END:VEVENT
BEGIN:VEVENT
DTSTART;TZID=Asia/Tokyo:20260517T103000
DTEND;TZID=Asia/Tokyo:20260517T123000
DTSTAMP:20260426T124126
CREATED:20260329T050016Z
LAST-MODIFIED:20260329T050808Z
UID:3843-1779013800-1779021000@famichan.org
SUMMARY:予約可能２組
DESCRIPTION:はないと2組の申し込みが可能です。
URL:https://famichan.org/event/%e3%81%af%e3%81%aa%e3%81%84%e3%81%a80%e7%b5%84-4/
CATEGORIES:はないと
END:VEVENT
BEGIN:VEVENT
DTSTART;TZID=Asia/Tokyo:20260517T120000
DTEND;TZID=Asia/Tokyo:20260517T140000
DTSTAMP:20260426T124126
CREATED:20260419T113000Z
LAST-MODIFIED:20260419T113000Z
UID:3885-1779019200-1779026400@famichan.org
SUMMARY:予約済
DESCRIPTION:おむすび見守り支援予約済です。
URL:https://famichan.org/event/%e4%ba%88%e7%b4%84%e6%b8%88-18/
CATEGORIES:おむすび
END:VEVENT
BEGIN:VEVENT
DTSTART;TZID=Asia/Tokyo:20260523T090000
DTEND;TZID=Asia/Tokyo:20260523T110000
DTSTAMP:20260426T124126
CREATED:20260326T065442Z
LAST-MODIFIED:20260326T070555Z
UID:3822-1779526800-1779534000@famichan.org
SUMMARY:予約済
DESCRIPTION:おむすび見守り支援予約済です
URL:https://famichan.org/event/%e4%ba%88%e7%b4%84%e6%b8%88-12/
CATEGORIES:おむすび
END:VEVENT
BEGIN:VEVENT
DTSTART;TZID=Asia/Tokyo:20260523T103000
DTEND;TZID=Asia/Tokyo:20260523T123000
DTSTAMP:20260426T124126
CREATED:20260329T050118Z
LAST-MODIFIED:20260329T050745Z
UID:3845-1779532200-1779539400@famichan.org
SUMMARY:予約可能２組
DESCRIPTION:はないと2組の申し込みが可能です。
URL:https://famichan.org/event/%e3%81%af%e3%81%aa%e3%81%84%e3%81%a80%e7%b5%84-5/
CATEGORIES:はないと
END:VEVENT
BEGIN:VEVENT
DTSTART;TZID=Asia/Tokyo:20260524T090000
DTEND;TZID=Asia/Tokyo:20260524T110000
DTSTAMP:20260426T124126
CREATED:20260326T065530Z
LAST-MODIFIED:20260326T070612Z
UID:3824-1779613200-1779620400@famichan.org
SUMMARY:予約済
DESCRIPTION:おむすび見守り支援予約済です
URL:https://famichan.org/event/%e4%ba%88%e7%b4%84%e6%b8%88-13/
CATEGORIES:おむすび
END:VEVENT
BEGIN:VEVENT
DTSTART;TZID=Asia/Tokyo:20260530T120000
DTEND;TZID=Asia/Tokyo:20260530T140000
DTSTAMP:20260426T124126
CREATED:20260419T113201Z
LAST-MODIFIED:20260419T114704Z
UID:3891-1780142400-1780149600@famichan.org
SUMMARY:予約済
DESCRIPTION:おむすび見守り支援予約済です。
URL:https://famichan.org/event/%e4%ba%88%e7%b4%84%e6%b8%88-21/
CATEGORIES:おむすび
END:VEVENT
BEGIN:VEVENT
DTSTART;TZID=Asia/Tokyo:20260531T100000
DTEND;TZID=Asia/Tokyo:20260531T110000
DTSTAMP:20260426T124126
CREATED:20260419T113245Z
LAST-MODIFIED:20260419T113245Z
UID:3893-1780221600-1780225200@famichan.org
SUMMARY:予約済
DESCRIPTION:おむすびオンライン支援予約済です
URL:https://famichan.org/event/%e4%ba%88%e7%b4%84%e6%b8%88-22/
CATEGORIES:おむすび
END:VEVENT
BEGIN:VEVENT
DTSTART;TZID=Asia/Tokyo:20260531T150000
DTEND;TZID=Asia/Tokyo:20260531T170000
DTSTAMP:20260426T124126
CREATED:20260419T113320Z
LAST-MODIFIED:20260419T113320Z
UID:3895-1780239600-1780246800@famichan.org
SUMMARY:予約済
DESCRIPTION:おむすび見守り支援予約済です。
URL:https://famichan.org/event/%e4%ba%88%e7%b4%84%e6%b8%88-23/
CATEGORIES:おむすび
END:VEVENT
BEGIN:VEVENT
DTSTART;TZID=Asia/Tokyo:20260607T150000
DTEND;TZID=Asia/Tokyo:20260607T170000
DTSTAMP:20260426T124126
CREATED:20260419T113428Z
LAST-MODIFIED:20260419T113428Z
UID:3897-1780844400-1780851600@famichan.org
SUMMARY:予約済
DESCRIPTION:おむすび見守り支援予約済です。
URL:https://famichan.org/event/%e4%ba%88%e7%b4%84%e6%b8%88-24/
CATEGORIES:おむすび
END:VEVENT
BEGIN:VEVENT
DTSTART;TZID=Asia/Tokyo:20260614T090000
DTEND;TZID=Asia/Tokyo:20260614T140000
DTSTAMP:20260426T124126
CREATED:20260419T115031Z
LAST-MODIFIED:20260419T115031Z
UID:3907-1781427600-1781445600@famichan.org
SUMMARY:支援不可
DESCRIPTION:おむすび支援不可。
URL:https://famichan.org/event/%e6%94%af%e6%8f%b4%e4%b8%8d%e5%8f%af-2/
CATEGORIES:おむすび
END:VEVENT
BEGIN:VEVENT
DTSTART;TZID=Asia/Tokyo:20260614T103000
DTEND;TZID=Asia/Tokyo:20260614T123000
DTSTAMP:20260426T124126
CREATED:20260329T050238Z
LAST-MODIFIED:20260329T050725Z
UID:3847-1781433000-1781440200@famichan.org
SUMMARY:予約可能1組
DESCRIPTION:はないと1組の申し込みが可能です。
URL:https://famichan.org/event/%e3%81%af%e3%81%aa%e3%81%84%e3%81%a81%e7%b5%84/
CATEGORIES:はないと
END:VEVENT
BEGIN:VEVENT
DTSTART;TZID=Asia/Tokyo:20260620T100000
DTEND;TZID=Asia/Tokyo:20260620T110000
DTSTAMP:20260426T124126
CREATED:20260419T113601Z
LAST-MODIFIED:20260419T113601Z
UID:3899-1781949600-1781953200@famichan.org
SUMMARY:予約済
DESCRIPTION:おむすびオンライン支援予約済です。
URL:https://famichan.org/event/%e4%ba%88%e7%b4%84%e6%b8%88-25/
CATEGORIES:おむすび
END:VEVENT
BEGIN:VEVENT
DTSTART;TZID=Asia/Tokyo:20260621T100000
DTEND;TZID=Asia/Tokyo:20260621T230000
DTSTAMP:20260426T124126
CREATED:20260419T113653Z
LAST-MODIFIED:20260419T113653Z
UID:3901-1782036000-1782082800@famichan.org
SUMMARY:予約済
DESCRIPTION:おむすびオンライン支援予約済です。
URL:https://famichan.org/event/%e4%ba%88%e7%b4%84%e6%b8%88-26/
CATEGORIES:おむすび
END:VEVENT
BEGIN:VEVENT
DTSTART;TZID=Asia/Tokyo:20260621T103000
DTEND;TZID=Asia/Tokyo:20260621T123000
DTSTAMP:20260426T124126
CREATED:20260329T050359Z
LAST-MODIFIED:20260329T050703Z
UID:3849-1782037800-1782045000@famichan.org
SUMMARY:予約可能２組
DESCRIPTION:はないと2組の申し込みが可能です。
URL:https://famichan.org/event/%e3%81%af%e3%81%aa%e3%81%84%e3%81%a80%e7%b5%84-6/
CATEGORIES:はないと
END:VEVENT
BEGIN:VEVENT
DTSTART;TZID=Asia/Tokyo:20260621T150000
DTEND;TZID=Asia/Tokyo:20260621T170000
DTSTAMP:20260426T124126
CREATED:20260419T113730Z
LAST-MODIFIED:20260419T113730Z
UID:3903-1782054000-1782061200@famichan.org
SUMMARY:予約済
DESCRIPTION:おむすび見守り支援予約済です。
URL:https://famichan.org/event/%e4%ba%88%e7%b4%84%e6%b8%88-27/
CATEGORIES:おむすび
END:VEVENT
BEGIN:VEVENT
DTSTART;TZID=Asia/Tokyo:20260627T090000
DTEND;TZID=Asia/Tokyo:20260627T140000
DTSTAMP:20260426T124126
CREATED:20260419T115115Z
LAST-MODIFIED:20260419T115115Z
UID:3909-1782550800-1782568800@famichan.org
SUMMARY:支援不可
DESCRIPTION:おむすび支援不可。
URL:https://famichan.org/event/%e6%94%af%e6%8f%b4%e4%b8%8d%e5%8f%af-3/
CATEGORIES:おむすび
END:VEVENT
BEGIN:VEVENT
DTSTART;TZID=Asia/Tokyo:20260628T120000
DTEND;TZID=Asia/Tokyo:20260628T140000
DTSTAMP:20260426T124126
CREATED:20260419T113821Z
LAST-MODIFIED:20260419T113821Z
UID:3905-1782648000-1782655200@famichan.org
SUMMARY:予約済
DESCRIPTION:おむすび見守り支援予約済です。
URL:https://famichan.org/event/%e4%ba%88%e7%b4%84%e6%b8%88-28/
CATEGORIES:おむすび
END:VEVENT
END:VCALENDAR