BEGIN:VCALENDAR
VERSION:2.0
PRODID:-//ふぁみちぇん 面会交流（親子交流） 愛知名古屋 離婚後の親と子供の交流を安心安全に - ECPv6.15.11//NONSGML v1.0//EN
CALSCALE:GREGORIAN
METHOD:PUBLISH
X-ORIGINAL-URL:https://famichan.org
X-WR-CALDESC:ふぁみちぇん 面会交流（親子交流） 愛知名古屋 離婚後の親と子供の交流を安心安全に のイベント
REFRESH-INTERVAL;VALUE=DURATION:PT1H
X-Robots-Tag:noindex
X-PUBLISHED-TTL:PT1H
BEGIN:VTIMEZONE
TZID:Asia/Tokyo
BEGIN:STANDARD
TZOFFSETFROM:+0900
TZOFFSETTO:+0900
TZNAME:JST
DTSTART:20250101T000000
END:STANDARD
END:VTIMEZONE
BEGIN:VEVENT
DTSTART;TZID=Asia/Tokyo:20260607T150000
DTEND;TZID=Asia/Tokyo:20260607T170000
DTSTAMP:20260426T125933
CREATED:20260419T113428Z
LAST-MODIFIED:20260419T113428Z
UID:3897-1780844400-1780851600@famichan.org
SUMMARY:予約済
DESCRIPTION:おむすび見守り支援予約済です。
URL:https://famichan.org/event/%e4%ba%88%e7%b4%84%e6%b8%88-24/
CATEGORIES:おむすび
END:VEVENT
BEGIN:VEVENT
DTSTART;TZID=Asia/Tokyo:20260614T090000
DTEND;TZID=Asia/Tokyo:20260614T140000
DTSTAMP:20260426T125933
CREATED:20260419T115031Z
LAST-MODIFIED:20260419T115031Z
UID:3907-1781427600-1781445600@famichan.org
SUMMARY:支援不可
DESCRIPTION:おむすび支援不可。
URL:https://famichan.org/event/%e6%94%af%e6%8f%b4%e4%b8%8d%e5%8f%af-2/
CATEGORIES:おむすび
END:VEVENT
BEGIN:VEVENT
DTSTART;TZID=Asia/Tokyo:20260614T103000
DTEND;TZID=Asia/Tokyo:20260614T123000
DTSTAMP:20260426T125933
CREATED:20260329T050238Z
LAST-MODIFIED:20260329T050725Z
UID:3847-1781433000-1781440200@famichan.org
SUMMARY:予約可能1組
DESCRIPTION:はないと1組の申し込みが可能です。
URL:https://famichan.org/event/%e3%81%af%e3%81%aa%e3%81%84%e3%81%a81%e7%b5%84/
CATEGORIES:はないと
END:VEVENT
BEGIN:VEVENT
DTSTART;TZID=Asia/Tokyo:20260620T100000
DTEND;TZID=Asia/Tokyo:20260620T110000
DTSTAMP:20260426T125933
CREATED:20260419T113601Z
LAST-MODIFIED:20260419T113601Z
UID:3899-1781949600-1781953200@famichan.org
SUMMARY:予約済
DESCRIPTION:おむすびオンライン支援予約済です。
URL:https://famichan.org/event/%e4%ba%88%e7%b4%84%e6%b8%88-25/
CATEGORIES:おむすび
END:VEVENT
BEGIN:VEVENT
DTSTART;TZID=Asia/Tokyo:20260621T100000
DTEND;TZID=Asia/Tokyo:20260621T230000
DTSTAMP:20260426T125933
CREATED:20260419T113653Z
LAST-MODIFIED:20260419T113653Z
UID:3901-1782036000-1782082800@famichan.org
SUMMARY:予約済
DESCRIPTION:おむすびオンライン支援予約済です。
URL:https://famichan.org/event/%e4%ba%88%e7%b4%84%e6%b8%88-26/
CATEGORIES:おむすび
END:VEVENT
BEGIN:VEVENT
DTSTART;TZID=Asia/Tokyo:20260621T103000
DTEND;TZID=Asia/Tokyo:20260621T123000
DTSTAMP:20260426T125933
CREATED:20260329T050359Z
LAST-MODIFIED:20260329T050703Z
UID:3849-1782037800-1782045000@famichan.org
SUMMARY:予約可能２組
DESCRIPTION:はないと2組の申し込みが可能です。
URL:https://famichan.org/event/%e3%81%af%e3%81%aa%e3%81%84%e3%81%a80%e7%b5%84-6/
CATEGORIES:はないと
END:VEVENT
BEGIN:VEVENT
DTSTART;TZID=Asia/Tokyo:20260621T150000
DTEND;TZID=Asia/Tokyo:20260621T170000
DTSTAMP:20260426T125933
CREATED:20260419T113730Z
LAST-MODIFIED:20260419T113730Z
UID:3903-1782054000-1782061200@famichan.org
SUMMARY:予約済
DESCRIPTION:おむすび見守り支援予約済です。
URL:https://famichan.org/event/%e4%ba%88%e7%b4%84%e6%b8%88-27/
CATEGORIES:おむすび
END:VEVENT
BEGIN:VEVENT
DTSTART;TZID=Asia/Tokyo:20260627T090000
DTEND;TZID=Asia/Tokyo:20260627T140000
DTSTAMP:20260426T125933
CREATED:20260419T115115Z
LAST-MODIFIED:20260419T115115Z
UID:3909-1782550800-1782568800@famichan.org
SUMMARY:支援不可
DESCRIPTION:おむすび支援不可。
URL:https://famichan.org/event/%e6%94%af%e6%8f%b4%e4%b8%8d%e5%8f%af-3/
CATEGORIES:おむすび
END:VEVENT
BEGIN:VEVENT
DTSTART;TZID=Asia/Tokyo:20260628T120000
DTEND;TZID=Asia/Tokyo:20260628T140000
DTSTAMP:20260426T125933
CREATED:20260419T113821Z
LAST-MODIFIED:20260419T113821Z
UID:3905-1782648000-1782655200@famichan.org
SUMMARY:予約済
DESCRIPTION:おむすび見守り支援予約済です。
URL:https://famichan.org/event/%e4%ba%88%e7%b4%84%e6%b8%88-28/
CATEGORIES:おむすび
END:VEVENT
END:VCALENDAR