BEGIN:VCALENDAR
VERSION:2.0
PRODID:-//ふぁみちぇん 面会交流（親子交流） 愛知名古屋 離婚後の親と子供の交流を安心安全に - ECPv6.15.11//NONSGML v1.0//EN
CALSCALE:GREGORIAN
METHOD:PUBLISH
X-WR-CALNAME:ふぁみちぇん 面会交流（親子交流） 愛知名古屋 離婚後の親と子供の交流を安心安全に
X-ORIGINAL-URL:https://famichan.org
X-WR-CALDESC:ふぁみちぇん 面会交流（親子交流） 愛知名古屋 離婚後の親と子供の交流を安心安全に のイベント
REFRESH-INTERVAL;VALUE=DURATION:PT1H
X-Robots-Tag:noindex
X-PUBLISHED-TTL:PT1H
BEGIN:VTIMEZONE
TZID:Asia/Tokyo
BEGIN:STANDARD
TZOFFSETFROM:+0900
TZOFFSETTO:+0900
TZNAME:JST
DTSTART:20250101T000000
END:STANDARD
END:VTIMEZONE
BEGIN:VEVENT
DTSTART;TZID=Asia/Tokyo:20260411T100000
DTEND;TZID=Asia/Tokyo:20260411T110000
DTSTAMP:20260426T110122
CREATED:20260326T063948Z
LAST-MODIFIED:20260326T063948Z
UID:3798-1775901600-1775905200@famichan.org
SUMMARY:予約済
DESCRIPTION:おむすびオンライン支援予約済
URL:https://famichan.org/event/%e4%ba%88%e7%b4%84%e6%b8%88-2/
CATEGORIES:おむすび
END:VEVENT
END:VCALENDAR