BEGIN:VCALENDAR
VERSION:2.0
PRODID:-//ふぁみちぇん 面会交流（親子交流） 愛知名古屋 離婚後の親と子供の交流を安心安全に - ECPv6.15.11//NONSGML v1.0//EN
CALSCALE:GREGORIAN
METHOD:PUBLISH
X-WR-CALNAME:ふぁみちぇん 面会交流（親子交流） 愛知名古屋 離婚後の親と子供の交流を安心安全に
X-ORIGINAL-URL:https://famichan.org
X-WR-CALDESC:ふぁみちぇん 面会交流（親子交流） 愛知名古屋 離婚後の親と子供の交流を安心安全に のイベント
REFRESH-INTERVAL;VALUE=DURATION:PT1H
X-Robots-Tag:noindex
X-PUBLISHED-TTL:PT1H
BEGIN:VTIMEZONE
TZID:Asia/Tokyo
BEGIN:STANDARD
TZOFFSETFROM:+0900
TZOFFSETTO:+0900
TZNAME:JST
DTSTART:20250101T000000
END:STANDARD
END:VTIMEZONE
BEGIN:VEVENT
DTSTART;TZID=Asia/Tokyo:20260523T090000
DTEND;TZID=Asia/Tokyo:20260523T110000
DTSTAMP:20260426T125704
CREATED:20260326T065442Z
LAST-MODIFIED:20260326T070555Z
UID:3822-1779526800-1779534000@famichan.org
SUMMARY:予約済
DESCRIPTION:おむすび見守り支援予約済です
URL:https://famichan.org/event/%e4%ba%88%e7%b4%84%e6%b8%88-12/
CATEGORIES:おむすび
END:VEVENT
BEGIN:VEVENT
DTSTART;TZID=Asia/Tokyo:20260523T103000
DTEND;TZID=Asia/Tokyo:20260523T123000
DTSTAMP:20260426T125704
CREATED:20260329T050118Z
LAST-MODIFIED:20260329T050745Z
UID:3845-1779532200-1779539400@famichan.org
SUMMARY:予約可能２組
DESCRIPTION:はないと2組の申し込みが可能です。
URL:https://famichan.org/event/%e3%81%af%e3%81%aa%e3%81%84%e3%81%a80%e7%b5%84-5/
CATEGORIES:はないと
END:VEVENT
END:VCALENDAR